BEGIN:VCALENDAR
VERSION:2.0
PRODID:-//Broward County Intergroup - ECPv6.15.20//NONSGML v1.0//EN
CALSCALE:GREGORIAN
METHOD:PUBLISH
X-ORIGINAL-URL:https://aabroward.org
X-WR-CALDESC:Events for Broward County Intergroup
REFRESH-INTERVAL;VALUE=DURATION:PT1H
X-Robots-Tag:noindex
X-PUBLISHED-TTL:PT1H
BEGIN:VTIMEZONE
TZID:America/New_York
BEGIN:DAYLIGHT
TZOFFSETFROM:-0500
TZOFFSETTO:-0400
TZNAME:EDT
DTSTART:20200308T070000
END:DAYLIGHT
BEGIN:STANDARD
TZOFFSETFROM:-0400
TZOFFSETTO:-0500
TZNAME:EST
DTSTART:20201101T060000
END:STANDARD
BEGIN:DAYLIGHT
TZOFFSETFROM:-0500
TZOFFSETTO:-0400
TZNAME:EDT
DTSTART:20210314T070000
END:DAYLIGHT
BEGIN:STANDARD
TZOFFSETFROM:-0400
TZOFFSETTO:-0500
TZNAME:EST
DTSTART:20211107T060000
END:STANDARD
BEGIN:DAYLIGHT
TZOFFSETFROM:-0500
TZOFFSETTO:-0400
TZNAME:EDT
DTSTART:20220313T070000
END:DAYLIGHT
BEGIN:STANDARD
TZOFFSETFROM:-0400
TZOFFSETTO:-0500
TZNAME:EST
DTSTART:20221106T060000
END:STANDARD
BEGIN:DAYLIGHT
TZOFFSETFROM:-0500
TZOFFSETTO:-0400
TZNAME:EDT
DTSTART:20230312T070000
END:DAYLIGHT
BEGIN:STANDARD
TZOFFSETFROM:-0400
TZOFFSETTO:-0500
TZNAME:EST
DTSTART:20231105T060000
END:STANDARD
BEGIN:DAYLIGHT
TZOFFSETFROM:-0500
TZOFFSETTO:-0400
TZNAME:EDT
DTSTART:20240310T070000
END:DAYLIGHT
BEGIN:STANDARD
TZOFFSETFROM:-0400
TZOFFSETTO:-0500
TZNAME:EST
DTSTART:20241103T060000
END:STANDARD
END:VTIMEZONE
BEGIN:VEVENT
DTSTART;TZID=America/New_York:20231112T130000
DTEND;TZID=America/New_York:20231112T140000
DTSTAMP:20260421T053658
CREATED:20221206T191819Z
LAST-MODIFIED:20221206T191837Z
UID:5629-1699794000-1699797600@aabroward.org
SUMMARY:Monthly Intergroup Meeting
DESCRIPTION:
URL:https://aabroward.org/event/monthly-intergroup-meeting-21/
LOCATION:FL\, United States
GEO:27.6648274;-81.5157535
END:VEVENT
BEGIN:VEVENT
DTSTART;TZID=America/New_York:20230211T190000
DTEND;TZID=America/New_York:20230211T210000
DTSTAMP:20260421T053658
CREATED:20221205T225729Z
LAST-MODIFIED:20221205T225729Z
UID:5607-1676142000-1676149200@aabroward.org
SUMMARY:AA's Got Talent!
DESCRIPTION:12th Annual Talent Show fundraiser for Broward County Intergroup.  Adults only. $10 entrance fee.\nPompano Beach Civic Center from 7-9 PM. 50/50 Raffle and desserts. Limited seating.AAs Got Talent 2023 Event Flyer
URL:https://aabroward.org/event/aas-got-talent-2/
LOCATION:FL\, United States
GEO:27.6648274;-81.5157535
END:VEVENT
BEGIN:VEVENT
DTSTART;TZID=America/New_York:20221109T080000
DTEND;TZID=America/New_York:20221109T170000
DTSTAMP:20260421T053658
CREATED:20221109T194214Z
LAST-MODIFIED:20221109T194214Z
UID:5579-1667980800-1668013200@aabroward.org
SUMMARY:Storm Condition Closures
DESCRIPTION:The Intergroup office will close at 5 PM today due to weather forecasts and the Pride Center will be closed today and tomorrow – November 9 and 10.
URL:https://aabroward.org/event/storm-condition-closures/
LOCATION:FL\, United States
GEO:27.6648274;-81.5157535
END:VEVENT
BEGIN:VEVENT
DTSTART;TZID=America/New_York:20220327T130000
DTEND;TZID=America/New_York:20220327T140000
DTSTAMP:20260421T053658
CREATED:20220124T174116Z
LAST-MODIFIED:20220124T174116Z
UID:5245-1648386000-1648389600@aabroward.org
SUMMARY:Monthly Intergroup Meeting
DESCRIPTION:
URL:https://aabroward.org/event/monthly-intergroup-meeting-8/
LOCATION:FL\, United States
GEO:27.6648274;-81.5157535
END:VEVENT
BEGIN:VEVENT
DTSTART;TZID=America/New_York:20220201T200000
DTEND;TZID=America/New_York:20220201T200000
DTSTAMP:20260421T053658
CREATED:20220124T173650Z
LAST-MODIFIED:20220124T173650Z
UID:5241-1643745600-1643745600@aabroward.org
SUMMARY:SCC Planning meeting
DESCRIPTION:Sober camping conference planning meeting on Zoom.
URL:https://aabroward.org/event/scc-planning-meeting-3/
LOCATION:FL\, United States
GEO:27.6648274;-81.5157535
END:VEVENT
BEGIN:VEVENT
DTSTART;TZID=America/New_York:20211023T090000
DTEND;TZID=America/New_York:20211023T110000
DTSTAMP:20260421T053658
CREATED:20210502T140844Z
LAST-MODIFIED:20210502T141546Z
UID:4939-1634979600-1634986800@aabroward.org
SUMMARY:Planning The 65th FL State Convention
DESCRIPTION:“Oceans of Devotion”\nAugust 3rd– 7th 2022\nFt. Lauderdale’s Beautiful\nHarbor Beach Marriott Resort & Spa\nWe Need Your Help! \nIt may seem like a long time\, but with so many committees\, a few mentioned below\, there is a lot of planning and we need every minute to make sure it’s a huge success. \nFuture Planning Meeting Dates Venue and Platform to be Determined
URL:https://aabroward.org/event/planning-the-65th-fl-state-convention-6/
LOCATION:FL\, United States
ATTACH;FMTTYPE=image/png:https://aabroward.org/wp-content/uploads/2021/05/65FSC.png
GEO:27.6648274;-81.5157535
END:VEVENT
BEGIN:VEVENT
DTSTART;VALUE=DATE:20210930
DTEND;VALUE=DATE:20211001
DTSTAMP:20260421T053658
CREATED:20210924T001508Z
LAST-MODIFIED:20210924T001508Z
UID:5120-1632960000-1633046399@aabroward.org
SUMMARY:Annual Inventory
DESCRIPTION:Intergroup Bookstore is closed for it’s Annual Inventory.  Will reopen tomorrow at 1 PM.
URL:https://aabroward.org/event/annual-inventory/
LOCATION:FL\, United States
GEO:27.6648274;-81.5157535
END:VEVENT
BEGIN:VEVENT
DTSTART;TZID=America/New_York:20210918T090000
DTEND;TZID=America/New_York:20210918T110000
DTSTAMP:20260421T053658
CREATED:20210502T140725Z
LAST-MODIFIED:20210902T235442Z
UID:4937-1631955600-1631962800@aabroward.org
SUMMARY:Planning The 65th FL State Convention
DESCRIPTION:FSC 2022 Planning Meeting Flyer Aug-Dec“Oceans of Devotion”\nAugust 3rd– 7th 2022\nFt. Lauderdale’s Beautiful\nHarbor Beach Marriott Resort & Spa\nWe Need Your Help! \nIt may seem like a long time\, but with so many committees\, a few mentioned below\, there is a lot of planning and we need every minute to make sure it’s a huge success. \nFuture Planning Meeting Dates Venue and Platform to be Determined
URL:https://aabroward.org/event/planning-the-65th-fl-state-convention-5/
LOCATION:FL\, United States
ATTACH;FMTTYPE=image/png:https://aabroward.org/wp-content/uploads/2021/05/65FSC.png
GEO:27.6648274;-81.5157535
END:VEVENT
BEGIN:VEVENT
DTSTART;VALUE=DATE:20210906
DTEND;VALUE=DATE:20210907
DTSTAMP:20260421T053658
CREATED:20210902T235627Z
LAST-MODIFIED:20210902T235627Z
UID:5103-1630886400-1630972799@aabroward.org
SUMMARY:Intergroup Office Closed
DESCRIPTION:Happy Labor Day!\nBookstore closed.
URL:https://aabroward.org/event/intergroup-office-closed-2/
LOCATION:FL\, United States
GEO:27.6648274;-81.5157535
END:VEVENT
BEGIN:VEVENT
DTSTART;TZID=America/New_York:20210821T090000
DTEND;TZID=America/New_York:20210821T110000
DTSTAMP:20260421T053658
CREATED:20210502T140624Z
LAST-MODIFIED:20210502T141723Z
UID:4935-1629536400-1629543600@aabroward.org
SUMMARY:Planning The 65th FL State Convention
DESCRIPTION:“Oceans of Devotion”\nAugust 3rd– 7th 2022\nFt. Lauderdale’s Beautiful\nHarbor Beach Marriott Resort & Spa\nWe Need Your Help! \nIt may seem like a long time\, but with so many committees\, a few mentioned below\, there is a lot of planning and we need every minute to make sure it’s a huge success. \nFuture Planning Meeting Dates Venue and Platform to be Determined
URL:https://aabroward.org/event/planning-the-65th-fl-state-convention-4/
LOCATION:FL\, United States
ATTACH;FMTTYPE=image/png:https://aabroward.org/wp-content/uploads/2021/05/65FSC.png
GEO:27.6648274;-81.5157535
END:VEVENT
BEGIN:VEVENT
DTSTART;TZID=America/New_York:20210814T180000
DTEND;TZID=America/New_York:20210814T203000
DTSTAMP:20260421T053658
CREATED:20210615T205930Z
LAST-MODIFIED:20210615T205930Z
UID:4996-1628964000-1628973000@aabroward.org
SUMMARY:Carry the Message Day
DESCRIPTION:CTMD2021 Flyer
URL:https://aabroward.org/event/carry-the-message-day-2/
LOCATION:FL\, United States
GEO:27.6648274;-81.5157535
END:VEVENT
BEGIN:VEVENT
DTSTART;TZID=America/New_York:20210724T090000
DTEND;TZID=America/New_York:20210724T110000
DTSTAMP:20260421T053658
CREATED:20210502T140524Z
LAST-MODIFIED:20210502T141811Z
UID:4933-1627117200-1627124400@aabroward.org
SUMMARY:Planning The 65th FL State Convention
DESCRIPTION:“Oceans of Devotion”\nAugust 3rd– 7th 2022\nFt. Lauderdale’s Beautiful\nHarbor Beach Marriott Resort & Spa\nWe Need Your Help! \nIt may seem like a long time\, but with so many committees\, a few mentioned below\, there is a lot of planning and we need every minute to make sure it’s a huge success. \nFuture Planning Meeting Dates Venue and Platform to be Determined
URL:https://aabroward.org/event/planning-the-65th-fl-state-convention-3/
LOCATION:FL\, United States
ATTACH;FMTTYPE=image/png:https://aabroward.org/wp-content/uploads/2021/05/65FSC.png
GEO:27.6648274;-81.5157535
END:VEVENT
BEGIN:VEVENT
DTSTART;TZID=America/New_York:20210619T090000
DTEND;TZID=America/New_York:20210619T110000
DTSTAMP:20260421T053658
CREATED:20210502T140407Z
LAST-MODIFIED:20210502T141457Z
UID:4931-1624093200-1624100400@aabroward.org
SUMMARY:Planning The 65th FL State Convention
DESCRIPTION:“Oceans of Devotion”\nAugust 3rd– 7th 2022\nFt. Lauderdale’s Beautiful\nHarbor Beach Marriott Resort & Spa\nWe Need Your Help! \nIt may seem like a long time\, but with so many committees\, a few mentioned below\, there is a lot of planning and we need every minute to make sure it’s a huge success. \nFuture Planning Meeting Dates Venue and Platform to be Determined
URL:https://aabroward.org/event/planning-the-65th-fl-state-convention-2/
LOCATION:FL\, United States
ATTACH;FMTTYPE=image/png:https://aabroward.org/wp-content/uploads/2021/05/65FSC.png
GEO:27.6648274;-81.5157535
END:VEVENT
BEGIN:VEVENT
DTSTART;TZID=America/New_York:20210522T090000
DTEND;TZID=America/New_York:20210522T110000
DTSTAMP:20260421T053658
CREATED:20210502T135744Z
LAST-MODIFIED:20210502T142132Z
UID:4928-1621674000-1621681200@aabroward.org
SUMMARY:Planning The 65th FL State Convention
DESCRIPTION:“Oceans of Devotion”\nAugust 3rd– 7th 2022\nFt. Lauderdale’s Beautiful\nHarbor Beach Marriott Resort & Spa\nWe Need Your Help! \nIt may seem like a long time\, but with so many committees\, a few mentioned below\, there is a lot of planning and we need every minute to make sure it’s a huge success. \nZoom Meeting ID: 882 8429 1768\nPasscode: FSC2022 \nFSC Flyer Planning meeting – May in color
URL:https://aabroward.org/event/planning-the-65th-fl-state-convention/
LOCATION:FL\, United States
ATTACH;FMTTYPE=image/png:https://aabroward.org/wp-content/uploads/2021/05/65FSC.png
GEO:27.6648274;-81.5157535
END:VEVENT
BEGIN:VEVENT
DTSTART;TZID=America/New_York:20210424T090000
DTEND;TZID=America/New_York:20210424T103000
DTSTAMP:20260421T053658
CREATED:20210411T234547Z
LAST-MODIFIED:20210411T234632Z
UID:4893-1619254800-1619260200@aabroward.org
SUMMARY:FSC Planning
DESCRIPTION:Planning meeting for FSC 20222022 Convention Planning meetings
URL:https://aabroward.org/event/fsc-planning/
LOCATION:FL\, United States
GEO:27.6648274;-81.5157535
END:VEVENT
END:VCALENDAR