BEGIN:VCALENDAR
VERSION:2.0
PRODID:-//Broward County Intergroup - ECPv6.15.20//NONSGML v1.0//EN
CALSCALE:GREGORIAN
METHOD:PUBLISH
X-WR-CALNAME:Broward County Intergroup
X-ORIGINAL-URL:https://aabroward.org
X-WR-CALDESC:Events for Broward County Intergroup
REFRESH-INTERVAL;VALUE=DURATION:PT1H
X-Robots-Tag:noindex
X-PUBLISHED-TTL:PT1H
BEGIN:VTIMEZONE
TZID:America/New_York
BEGIN:DAYLIGHT
TZOFFSETFROM:-0500
TZOFFSETTO:-0400
TZNAME:EDT
DTSTART:20180311T070000
END:DAYLIGHT
BEGIN:STANDARD
TZOFFSETFROM:-0400
TZOFFSETTO:-0500
TZNAME:EST
DTSTART:20181104T060000
END:STANDARD
BEGIN:DAYLIGHT
TZOFFSETFROM:-0500
TZOFFSETTO:-0400
TZNAME:EDT
DTSTART:20190310T070000
END:DAYLIGHT
BEGIN:STANDARD
TZOFFSETFROM:-0400
TZOFFSETTO:-0500
TZNAME:EST
DTSTART:20191103T060000
END:STANDARD
BEGIN:DAYLIGHT
TZOFFSETFROM:-0500
TZOFFSETTO:-0400
TZNAME:EDT
DTSTART:20200308T070000
END:DAYLIGHT
BEGIN:STANDARD
TZOFFSETFROM:-0400
TZOFFSETTO:-0500
TZNAME:EST
DTSTART:20201101T060000
END:STANDARD
BEGIN:DAYLIGHT
TZOFFSETFROM:-0500
TZOFFSETTO:-0400
TZNAME:EDT
DTSTART:20210314T070000
END:DAYLIGHT
BEGIN:STANDARD
TZOFFSETFROM:-0400
TZOFFSETTO:-0500
TZNAME:EST
DTSTART:20211107T060000
END:STANDARD
BEGIN:DAYLIGHT
TZOFFSETFROM:-0500
TZOFFSETTO:-0400
TZNAME:EDT
DTSTART:20220313T070000
END:DAYLIGHT
BEGIN:STANDARD
TZOFFSETFROM:-0400
TZOFFSETTO:-0500
TZNAME:EST
DTSTART:20221106T060000
END:STANDARD
BEGIN:DAYLIGHT
TZOFFSETFROM:-0500
TZOFFSETTO:-0400
TZNAME:EDT
DTSTART:20230312T070000
END:DAYLIGHT
BEGIN:STANDARD
TZOFFSETFROM:-0400
TZOFFSETTO:-0500
TZNAME:EST
DTSTART:20231105T060000
END:STANDARD
BEGIN:DAYLIGHT
TZOFFSETFROM:-0500
TZOFFSETTO:-0400
TZNAME:EDT
DTSTART:20240310T070000
END:DAYLIGHT
BEGIN:STANDARD
TZOFFSETFROM:-0400
TZOFFSETTO:-0500
TZNAME:EST
DTSTART:20241103T060000
END:STANDARD
BEGIN:DAYLIGHT
TZOFFSETFROM:-0500
TZOFFSETTO:-0400
TZNAME:EDT
DTSTART:20250309T070000
END:DAYLIGHT
BEGIN:STANDARD
TZOFFSETFROM:-0400
TZOFFSETTO:-0500
TZNAME:EST
DTSTART:20251102T060000
END:STANDARD
END:VTIMEZONE
BEGIN:VEVENT
DTSTART;TZID=America/New_York:20240921T180000
DTEND;TZID=America/New_York:20240921T210000
DTSTAMP:20260421T095900
CREATED:20240616T225245Z
LAST-MODIFIED:20240616T225245Z
UID:6018-1726941600-1726952400@aabroward.org
SUMMARY:Carry the Message Day 2024
DESCRIPTION:Carry the Message Day 2024
URL:https://aabroward.org/event/carry-the-message-day-2024/
LOCATION:101 Club\, 700 SW 10 Street & Dixie Hwy\, Pompano Beach\, FL\, 33060\, United States
GEO:26.2205917;-80.1352387
X-APPLE-STRUCTURED-LOCATION;VALUE=URI;X-ADDRESS=101 Club 700 SW 10 Street & Dixie Hwy Pompano Beach FL 33060 United States;X-APPLE-RADIUS=500;X-TITLE=700 SW 10 Street & Dixie Hwy:geo:-80.1352387,26.2205917
END:VEVENT
BEGIN:VEVENT
DTSTART;TZID=America/New_York:20230912T080000
DTEND;TZID=America/New_York:20230912T170000
DTSTAMP:20260421T095900
CREATED:20230912T194723Z
LAST-MODIFIED:20230912T194723Z
UID:5828-1694505600-1694538000@aabroward.org
SUMMARY:Carry the Message Day
DESCRIPTION:Carry_the_message_2023_Flyer
URL:https://aabroward.org/event/carry-the-message-day-3/
LOCATION:101 Club\, 700 SW 10 Street & Dixie Hwy\, Pompano Beach\, FL\, 33060\, United States
GEO:26.2205917;-80.1352387
X-APPLE-STRUCTURED-LOCATION;VALUE=URI;X-ADDRESS=101 Club 700 SW 10 Street & Dixie Hwy Pompano Beach FL 33060 United States;X-APPLE-RADIUS=500;X-TITLE=700 SW 10 Street & Dixie Hwy:geo:-80.1352387,26.2205917
END:VEVENT
BEGIN:VEVENT
DTSTART;TZID=America/New_York:20191214T133000
DTEND;TZID=America/New_York:20191214T143000
DTSTAMP:20260421T095900
CREATED:20191011T220507Z
LAST-MODIFIED:20191023T183049Z
UID:3119-1576330200-1576333800@aabroward.org
SUMMARY:AAGT Planning Meeting
DESCRIPTION:Talent Show planning.  Come sign up to volunteer on a committee or perform. \nNo bands.
URL:https://aabroward.org/event/aagt-planning-meeting-3/
LOCATION:101 Club\, 700 SW 10 Street & Dixie Hwy\, Pompano Beach\, FL\, 33060\, United States
GEO:26.2205917;-80.1352387
X-APPLE-STRUCTURED-LOCATION;VALUE=URI;X-ADDRESS=101 Club 700 SW 10 Street & Dixie Hwy Pompano Beach FL 33060 United States;X-APPLE-RADIUS=500;X-TITLE=700 SW 10 Street & Dixie Hwy:geo:-80.1352387,26.2205917
END:VEVENT
END:VCALENDAR