BEGIN:VCALENDAR
VERSION:2.0
PRODID:-//Broward County Intergroup - ECPv6.15.20//NONSGML v1.0//EN
CALSCALE:GREGORIAN
METHOD:PUBLISH
X-WR-CALNAME:Broward County Intergroup
X-ORIGINAL-URL:https://aabroward.org
X-WR-CALDESC:Events for Broward County Intergroup
REFRESH-INTERVAL;VALUE=DURATION:PT1H
X-Robots-Tag:noindex
X-PUBLISHED-TTL:PT1H
BEGIN:VTIMEZONE
TZID:America/New_York
BEGIN:DAYLIGHT
TZOFFSETFROM:-0500
TZOFFSETTO:-0400
TZNAME:EDT
DTSTART:20240310T070000
END:DAYLIGHT
BEGIN:STANDARD
TZOFFSETFROM:-0400
TZOFFSETTO:-0500
TZNAME:EST
DTSTART:20241103T060000
END:STANDARD
BEGIN:DAYLIGHT
TZOFFSETFROM:-0500
TZOFFSETTO:-0400
TZNAME:EDT
DTSTART:20250309T070000
END:DAYLIGHT
BEGIN:STANDARD
TZOFFSETFROM:-0400
TZOFFSETTO:-0500
TZNAME:EST
DTSTART:20251102T060000
END:STANDARD
BEGIN:DAYLIGHT
TZOFFSETFROM:-0500
TZOFFSETTO:-0400
TZNAME:EDT
DTSTART:20260308T070000
END:DAYLIGHT
BEGIN:STANDARD
TZOFFSETFROM:-0400
TZOFFSETTO:-0500
TZNAME:EST
DTSTART:20261101T060000
END:STANDARD
BEGIN:DAYLIGHT
TZOFFSETFROM:-0500
TZOFFSETTO:-0400
TZNAME:EDT
DTSTART:20270314T070000
END:DAYLIGHT
BEGIN:STANDARD
TZOFFSETFROM:-0400
TZOFFSETTO:-0500
TZNAME:EST
DTSTART:20271107T060000
END:STANDARD
END:VTIMEZONE
BEGIN:VEVENT
DTSTART;TZID=America/New_York:20250921T130000
DTEND;TZID=America/New_York:20250921T140000
DTSTAMP:20260422T123216
CREATED:20250625T165932Z
LAST-MODIFIED:20250625T170906Z
UID:6267-1758459600-1758463200@aabroward.org
SUMMARY:Monthly Intergroup Meeting
DESCRIPTION:Monthly Intergroup Representatives Meeting
URL:https://aabroward.org/event/mim-2/
LOCATION:Twelve Step House\, 205 SW 23 Street\, Fort Lauderdale\, FL\, 33315\, United States
GEO:26.0939351;-80.1428336
X-APPLE-STRUCTURED-LOCATION;VALUE=URI;X-ADDRESS=Twelve Step House 205 SW 23 Street Fort Lauderdale FL 33315 United States;X-APPLE-RADIUS=500;X-TITLE=205 SW 23 Street:geo:-80.1428336,26.0939351
END:VEVENT
BEGIN:VEVENT
DTSTART;VALUE=DATE:20250930
DTEND;VALUE=DATE:20251001
DTSTAMP:20260422T123216
CREATED:20250625T171227Z
LAST-MODIFIED:20250625T171227Z
UID:6287-1759190400-1759276799@aabroward.org
SUMMARY:Office Closed
DESCRIPTION:Annual Inventory of Bookstore
URL:https://aabroward.org/event/office-closed-4/
LOCATION:Intergroup Office\, 3317 NW 10TH TER STE 404\, FT LAUDERDALE\, FL\, 33309\, United States
GEO:26.1693036;-80.1571314
X-APPLE-STRUCTURED-LOCATION;VALUE=URI;X-ADDRESS=Intergroup Office 3317 NW 10TH TER STE 404 FT LAUDERDALE FL 33309 United States;X-APPLE-RADIUS=500;X-TITLE=3317 NW 10TH TER STE 404:geo:-80.1571314,26.1693036
END:VEVENT
BEGIN:VEVENT
DTSTART;TZID=America/New_York:20251019T130000
DTEND;TZID=America/New_York:20251019T140000
DTSTAMP:20260422T123216
CREATED:20250625T170017Z
LAST-MODIFIED:20250625T170856Z
UID:6269-1760878800-1760882400@aabroward.org
SUMMARY:Monthly Intergroup Meeting
DESCRIPTION:Monthly Intergroup Representatives Meeting
URL:https://aabroward.org/event/mim-3/
LOCATION:Twelve Step House\, 205 SW 23 Street\, Fort Lauderdale\, FL\, 33315\, United States
GEO:26.0939351;-80.1428336
X-APPLE-STRUCTURED-LOCATION;VALUE=URI;X-ADDRESS=Twelve Step House 205 SW 23 Street Fort Lauderdale FL 33315 United States;X-APPLE-RADIUS=500;X-TITLE=205 SW 23 Street:geo:-80.1428336,26.0939351
END:VEVENT
BEGIN:VEVENT
DTSTART;TZID=America/New_York:20251025T123000
DTEND;TZID=America/New_York:20251025T133000
DTSTAMP:20260422T123216
CREATED:20251008T223347Z
LAST-MODIFIED:20251010T203951Z
UID:6360-1761395400-1761399000@aabroward.org
SUMMARY:AAGT planning 1
DESCRIPTION:Planning meeting October 2025.docx
URL:https://aabroward.org/event/aagt-planning-1/
LOCATION:441 Group\, 1452 N State Rd 7\, Margate\, FL\, 33063\, United States
GEO:26.144089;-80.2026003
X-APPLE-STRUCTURED-LOCATION;VALUE=URI;X-ADDRESS=441 Group 1452 N State Rd 7 Margate FL 33063 United States;X-APPLE-RADIUS=500;X-TITLE=1452 N State Rd 7:geo:-80.2026003,26.144089
END:VEVENT
BEGIN:VEVENT
DTSTART;TZID=America/New_York:20251026T110000
DTEND;TZID=America/New_York:20251026T160000
DTSTAMP:20260422T123216
CREATED:20250718T184823Z
LAST-MODIFIED:20250718T184823Z
UID:6309-1761476400-1761494400@aabroward.org
SUMMARY:49th Intergroup Picnic
DESCRIPTION:49th Intergroup Picnic\nSnyder Park\n$122025 Picnic Flyer.doc
URL:https://aabroward.org/event/49th-intergroup-picnic/
LOCATION:Snyder Park\, Caldwell Pavillion\, 3299 SW 4th Avenue\, Fort Lauderdale\, FL\, 33315\, United States
GEO:26.082714;-80.148185
X-APPLE-STRUCTURED-LOCATION;VALUE=URI;X-ADDRESS=Snyder Park Caldwell Pavillion 3299 SW 4th Avenue Fort Lauderdale FL 33315 United States;X-APPLE-RADIUS=500;X-TITLE=Caldwell Pavillion\, 3299 SW 4th Avenue:geo:-80.148185,26.082714
END:VEVENT
BEGIN:VEVENT
DTSTART;TZID=America/New_York:20251026T110000
DTEND;TZID=America/New_York:20251026T160000
DTSTAMP:20260422T123216
CREATED:20250625T171732Z
LAST-MODIFIED:20250625T171732Z
UID:6295-1761476400-1761494400@aabroward.org
SUMMARY:Annual Intergroup Picnic
DESCRIPTION:
URL:https://aabroward.org/event/annual-intergroup-picnic-2/
LOCATION:Snyder Park\, Caldwell Pavillion\, 3299 SW 4th Avenue\, Fort Lauderdale\, FL\, 33315\, United States
GEO:26.082714;-80.148185
X-APPLE-STRUCTURED-LOCATION;VALUE=URI;X-ADDRESS=Snyder Park Caldwell Pavillion 3299 SW 4th Avenue Fort Lauderdale FL 33315 United States;X-APPLE-RADIUS=500;X-TITLE=Caldwell Pavillion\, 3299 SW 4th Avenue:geo:-80.148185,26.082714
END:VEVENT
BEGIN:VEVENT
DTSTART;VALUE=DATE:20251111
DTEND;VALUE=DATE:20251112
DTSTAMP:20260422T123216
CREATED:20250625T171345Z
LAST-MODIFIED:20250625T171345Z
UID:6289-1762819200-1762905599@aabroward.org
SUMMARY:Office Closed
DESCRIPTION:Bookstore closed in observance of Veterans Day
URL:https://aabroward.org/event/office-closed-5/
LOCATION:Intergroup Office\, 3317 NW 10TH TER STE 404\, FT LAUDERDALE\, FL\, 33309\, United States
GEO:26.1693036;-80.1571314
X-APPLE-STRUCTURED-LOCATION;VALUE=URI;X-ADDRESS=Intergroup Office 3317 NW 10TH TER STE 404 FT LAUDERDALE FL 33309 United States;X-APPLE-RADIUS=500;X-TITLE=3317 NW 10TH TER STE 404:geo:-80.1571314,26.1693036
END:VEVENT
BEGIN:VEVENT
DTSTART;TZID=America/New_York:20251122T110000
DTEND;TZID=America/New_York:20251122T150000
DTSTAMP:20260422T123216
CREATED:20251008T223956Z
LAST-MODIFIED:20251008T223956Z
UID:6363-1763809200-1763823600@aabroward.org
SUMMARY:PreHoliday Sales Event
DESCRIPTION:Holiday Sales Event 2025
URL:https://aabroward.org/event/preholiday-sales-event/
LOCATION:Intergroup Office\, 3317 NW 10TH TER STE 404\, FT LAUDERDALE\, FL\, 33309\, United States
GEO:26.1693036;-80.1571314
X-APPLE-STRUCTURED-LOCATION;VALUE=URI;X-ADDRESS=Intergroup Office 3317 NW 10TH TER STE 404 FT LAUDERDALE FL 33309 United States;X-APPLE-RADIUS=500;X-TITLE=3317 NW 10TH TER STE 404:geo:-80.1571314,26.1693036
END:VEVENT
BEGIN:VEVENT
DTSTART;TZID=America/New_York:20251123T130000
DTEND;TZID=America/New_York:20251123T140000
DTSTAMP:20260422T123216
CREATED:20250625T170104Z
LAST-MODIFIED:20250625T170849Z
UID:6271-1763902800-1763906400@aabroward.org
SUMMARY:Monthly Intergroup Meeting
DESCRIPTION:Monthly Intergroup Representatives Meeting
URL:https://aabroward.org/event/mim-4/
LOCATION:Twelve Step House\, 205 SW 23 Street\, Fort Lauderdale\, FL\, 33315\, United States
GEO:26.0939351;-80.1428336
X-APPLE-STRUCTURED-LOCATION;VALUE=URI;X-ADDRESS=Twelve Step House 205 SW 23 Street Fort Lauderdale FL 33315 United States;X-APPLE-RADIUS=500;X-TITLE=205 SW 23 Street:geo:-80.1428336,26.0939351
END:VEVENT
BEGIN:VEVENT
DTSTART;VALUE=DATE:20251127
DTEND;VALUE=DATE:20251129
DTSTAMP:20260422T123216
CREATED:20250625T171443Z
LAST-MODIFIED:20250625T171941Z
UID:6291-1764201600-1764374399@aabroward.org
SUMMARY:Office Closed
DESCRIPTION:Bookstore closed in observance of Thanksgiving
URL:https://aabroward.org/event/6291/
LOCATION:Intergroup Office\, 3317 NW 10TH TER STE 404\, FT LAUDERDALE\, FL\, 33309\, United States
GEO:26.1693036;-80.1571314
X-APPLE-STRUCTURED-LOCATION;VALUE=URI;X-ADDRESS=Intergroup Office 3317 NW 10TH TER STE 404 FT LAUDERDALE FL 33309 United States;X-APPLE-RADIUS=500;X-TITLE=3317 NW 10TH TER STE 404:geo:-80.1571314,26.1693036
END:VEVENT
BEGIN:VEVENT
DTSTART;TZID=America/New_York:20251221T130000
DTEND;TZID=America/New_York:20251221T140000
DTSTAMP:20260422T123216
CREATED:20250625T170201Z
LAST-MODIFIED:20250625T170842Z
UID:6273-1766322000-1766325600@aabroward.org
SUMMARY:Monthly Intergroup Meeting
DESCRIPTION:Monthly Intergroup Representatives Meeting
URL:https://aabroward.org/event/mim-5/
LOCATION:Twelve Step House\, 205 SW 23 Street\, Fort Lauderdale\, FL\, 33315\, United States
GEO:26.0939351;-80.1428336
X-APPLE-STRUCTURED-LOCATION;VALUE=URI;X-ADDRESS=Twelve Step House 205 SW 23 Street Fort Lauderdale FL 33315 United States;X-APPLE-RADIUS=500;X-TITLE=205 SW 23 Street:geo:-80.1428336,26.0939351
END:VEVENT
BEGIN:VEVENT
DTSTART;VALUE=DATE:20251225
DTEND;VALUE=DATE:20251226
DTSTAMP:20260422T123216
CREATED:20250625T171552Z
LAST-MODIFIED:20250625T171552Z
UID:6293-1766620800-1766707199@aabroward.org
SUMMARY:Office Closed
DESCRIPTION:Bookstore closed in observance of Christmas
URL:https://aabroward.org/event/office-closed-6/
LOCATION:Intergroup Office\, 3317 NW 10TH TER STE 404\, FT LAUDERDALE\, FL\, 33309\, United States
GEO:26.1693036;-80.1571314
X-APPLE-STRUCTURED-LOCATION;VALUE=URI;X-ADDRESS=Intergroup Office 3317 NW 10TH TER STE 404 FT LAUDERDALE FL 33309 United States;X-APPLE-RADIUS=500;X-TITLE=3317 NW 10TH TER STE 404:geo:-80.1571314,26.1693036
END:VEVENT
BEGIN:VEVENT
DTSTART;VALUE=DATE:20260101
DTEND;VALUE=DATE:20260102
DTSTAMP:20260422T123216
CREATED:20251231T184333Z
LAST-MODIFIED:20251231T184333Z
UID:6421-1767225600-1767311999@aabroward.org
SUMMARY:Office Closed
DESCRIPTION:Bookstore is closed in Observance of New Year’s Day.
URL:https://aabroward.org/event/office-closed-7/
LOCATION:Intergroup Office\, 3317 NW 10TH TER STE 404\, FT LAUDERDALE\, FL\, 33309\, United States
GEO:26.1693036;-80.1571314
X-APPLE-STRUCTURED-LOCATION;VALUE=URI;X-ADDRESS=Intergroup Office 3317 NW 10TH TER STE 404 FT LAUDERDALE FL 33309 United States;X-APPLE-RADIUS=500;X-TITLE=3317 NW 10TH TER STE 404:geo:-80.1571314,26.1693036
END:VEVENT
BEGIN:VEVENT
DTSTART;TZID=America/New_York:20260104T123000
DTEND;TZID=America/New_York:20260104T130000
DTSTAMP:20260422T123216
CREATED:20251231T183742Z
LAST-MODIFIED:20251231T183742Z
UID:6412-1767529800-1767531600@aabroward.org
SUMMARY:AAGT Planning
DESCRIPTION:
URL:https://aabroward.org/event/aagt-planning-2/
LOCATION:441 Group\, 1452 N State Rd 7\, Margate\, FL\, 33063\, United States
GEO:26.144089;-80.2026003
X-APPLE-STRUCTURED-LOCATION;VALUE=URI;X-ADDRESS=441 Group 1452 N State Rd 7 Margate FL 33063 United States;X-APPLE-RADIUS=500;X-TITLE=1452 N State Rd 7:geo:-80.2026003,26.144089
END:VEVENT
BEGIN:VEVENT
DTSTART;TZID=America/New_York:20260119T080000
DTEND;TZID=America/New_York:20260119T180000
DTSTAMP:20260422T123216
CREATED:20260114T191822Z
LAST-MODIFIED:20260114T191822Z
UID:6450-1768809600-1768845600@aabroward.org
SUMMARY:Office Closed
DESCRIPTION:Bookstore will be closed in observance of Martin Luther King Day.
URL:https://aabroward.org/event/office-closed-8/
LOCATION:Intergroup Office\, 3317 NW 10TH TER STE 404\, FT LAUDERDALE\, FL\, 33309\, United States
GEO:26.1693036;-80.1571314
X-APPLE-STRUCTURED-LOCATION;VALUE=URI;X-ADDRESS=Intergroup Office 3317 NW 10TH TER STE 404 FT LAUDERDALE FL 33309 United States;X-APPLE-RADIUS=500;X-TITLE=3317 NW 10TH TER STE 404:geo:-80.1571314,26.1693036
END:VEVENT
BEGIN:VEVENT
DTSTART;TZID=America/New_York:20260121T183000
DTEND;TZID=America/New_York:20260121T193000
DTSTAMP:20260422T123216
CREATED:20251231T183546Z
LAST-MODIFIED:20251231T183546Z
UID:6410-1769020200-1769023800@aabroward.org
SUMMARY:Banquet planning meeting
DESCRIPTION:
URL:https://aabroward.org/event/banquet-planning-meeting/
LOCATION:Intergroup Office\, 3317 NW 10TH TER STE 404\, FT LAUDERDALE\, FL\, 33309\, United States
GEO:26.1693036;-80.1571314
X-APPLE-STRUCTURED-LOCATION;VALUE=URI;X-ADDRESS=Intergroup Office 3317 NW 10TH TER STE 404 FT LAUDERDALE FL 33309 United States;X-APPLE-RADIUS=500;X-TITLE=3317 NW 10TH TER STE 404:geo:-80.1571314,26.1693036
END:VEVENT
BEGIN:VEVENT
DTSTART;TZID=America/New_York:20260125T130000
DTEND;TZID=America/New_York:20260125T140000
DTSTAMP:20260422T123216
CREATED:20251231T185534Z
LAST-MODIFIED:20251231T185534Z
UID:6426-1769346000-1769349600@aabroward.org
SUMMARY:Intergroup Representative Meeting
DESCRIPTION:
URL:https://aabroward.org/event/intergroup-representative-meeting/
LOCATION:Twelve Step House\, 205 SW 23 Street\, Fort Lauderdale\, FL\, 33315\, United States
GEO:26.0939351;-80.1428336
X-APPLE-STRUCTURED-LOCATION;VALUE=URI;X-ADDRESS=Twelve Step House 205 SW 23 Street Fort Lauderdale FL 33315 United States;X-APPLE-RADIUS=500;X-TITLE=205 SW 23 Street:geo:-80.1428336,26.0939351
END:VEVENT
END:VCALENDAR