BEGIN:VCALENDAR
VERSION:2.0
PRODID:-//Broward County Intergroup - ECPv6.15.20//NONSGML v1.0//EN
CALSCALE:GREGORIAN
METHOD:PUBLISH
X-WR-CALNAME:Broward County Intergroup
X-ORIGINAL-URL:https://aabroward.org
X-WR-CALDESC:Events for Broward County Intergroup
REFRESH-INTERVAL;VALUE=DURATION:PT1H
X-Robots-Tag:noindex
X-PUBLISHED-TTL:PT1H
BEGIN:VTIMEZONE
TZID:America/New_York
BEGIN:DAYLIGHT
TZOFFSETFROM:-0500
TZOFFSETTO:-0400
TZNAME:EDT
DTSTART:20240310T070000
END:DAYLIGHT
BEGIN:STANDARD
TZOFFSETFROM:-0400
TZOFFSETTO:-0500
TZNAME:EST
DTSTART:20241103T060000
END:STANDARD
BEGIN:DAYLIGHT
TZOFFSETFROM:-0500
TZOFFSETTO:-0400
TZNAME:EDT
DTSTART:20250309T070000
END:DAYLIGHT
BEGIN:STANDARD
TZOFFSETFROM:-0400
TZOFFSETTO:-0500
TZNAME:EST
DTSTART:20251102T060000
END:STANDARD
BEGIN:DAYLIGHT
TZOFFSETFROM:-0500
TZOFFSETTO:-0400
TZNAME:EDT
DTSTART:20260308T070000
END:DAYLIGHT
BEGIN:STANDARD
TZOFFSETFROM:-0400
TZOFFSETTO:-0500
TZNAME:EST
DTSTART:20261101T060000
END:STANDARD
END:VTIMEZONE
BEGIN:VEVENT
DTSTART;TZID=America/New_York:20250413T130000
DTEND;TZID=America/New_York:20250413T140000
DTSTAMP:20260422T150723
CREATED:20250103T180234Z
LAST-MODIFIED:20250103T180234Z
UID:6153-1744549200-1744552800@aabroward.org
SUMMARY:Monthly Representatives Meeting
DESCRIPTION:
URL:https://aabroward.org/event/monthly-representatives-meeting-4/
LOCATION:12 Step House\, 205 SW 23rd Street\, Fort Lauderdale\, FL\, 33315\, United States
GEO:26.0939351;-80.1428336
X-APPLE-STRUCTURED-LOCATION;VALUE=URI;X-ADDRESS=12 Step House 205 SW 23rd Street Fort Lauderdale FL 33315 United States;X-APPLE-RADIUS=500;X-TITLE=205 SW 23rd Street:geo:-80.1428336,26.0939351
END:VEVENT
BEGIN:VEVENT
DTSTART;TZID=America/New_York:20250427T100000
DTEND;TZID=America/New_York:20250427T160000
DTSTAMP:20260422T150723
CREATED:20250319T201125Z
LAST-MODIFIED:20250319T201125Z
UID:6201-1745748000-1745769600@aabroward.org
SUMMARY:BLG Picnic
DESCRIPTION:Bottom Line Group Annual Picnic at Quiet Waters Park\, Deerfield \n$10BLG Picnic
URL:https://aabroward.org/event/blg-picnic/
LOCATION:FL
END:VEVENT
BEGIN:VEVENT
DTSTART;TZID=America/New_York:20250427T160000
DTEND;TZID=America/New_York:20250427T200000
DTSTAMP:20260422T150723
CREATED:20250103T175548Z
LAST-MODIFIED:20250103T175548Z
UID:6145-1745769600-1745784000@aabroward.org
SUMMARY:61st  Intergroup Appreciation Banquet
DESCRIPTION:
URL:https://aabroward.org/event/61st-intergroup-appreciation-banquet/
LOCATION:Tropical Acres Steakhouse\, 2500 Griffin Rd\, Fort Lauderdale\, FL\, 33312\, United States
GEO:26.0619861;-80.1741749
X-APPLE-STRUCTURED-LOCATION;VALUE=URI;X-ADDRESS=Tropical Acres Steakhouse 2500 Griffin Rd Fort Lauderdale FL 33312 United States;X-APPLE-RADIUS=500;X-TITLE=2500 Griffin Rd:geo:-80.1741749,26.0619861
END:VEVENT
BEGIN:VEVENT
DTSTART;TZID=America/New_York:20250518T130000
DTEND;TZID=America/New_York:20250518T140000
DTSTAMP:20260422T150723
CREATED:20250103T180613Z
LAST-MODIFIED:20250103T180613Z
UID:6155-1747573200-1747576800@aabroward.org
SUMMARY:Monthly Representatives Meeting
DESCRIPTION:
URL:https://aabroward.org/event/monthly-representatives-meeting-5/
LOCATION:12 Step House\, 205 SW 23rd Street\, Fort Lauderdale\, FL\, 33315\, United States
GEO:26.0939351;-80.1428336
X-APPLE-STRUCTURED-LOCATION;VALUE=URI;X-ADDRESS=12 Step House 205 SW 23rd Street Fort Lauderdale FL 33315 United States;X-APPLE-RADIUS=500;X-TITLE=205 SW 23rd Street:geo:-80.1428336,26.0939351
END:VEVENT
BEGIN:VEVENT
DTSTART;VALUE=DATE:20250704
DTEND;VALUE=DATE:20250705
DTSTAMP:20260422T150723
CREATED:20250625T172235Z
LAST-MODIFIED:20250625T172235Z
UID:6298-1751587200-1751673599@aabroward.org
SUMMARY:Office Closed
DESCRIPTION:Bookstore closed in observance of Independence Day
URL:https://aabroward.org/event/office-closed-3/
LOCATION:Intergroup Office\, 3317 NW 10TH TER STE 404\, FT LAUDERDALE\, FL\, 33309\, United States
GEO:26.1693036;-80.1571314
X-APPLE-STRUCTURED-LOCATION;VALUE=URI;X-ADDRESS=Intergroup Office 3317 NW 10TH TER STE 404 FT LAUDERDALE FL 33309 United States;X-APPLE-RADIUS=500;X-TITLE=3317 NW 10TH TER STE 404:geo:-80.1571314,26.1693036
END:VEVENT
BEGIN:VEVENT
DTSTART;TZID=America/New_York:20250719T110000
DTEND;TZID=America/New_York:20250719T150000
DTSTAMP:20260422T150723
CREATED:20250625T165534Z
LAST-MODIFIED:20250625T170934Z
UID:6258-1752922800-1752937200@aabroward.org
SUMMARY:Customer Appreciation Day
DESCRIPTION:CAD 2025 Flyer
URL:https://aabroward.org/event/cad-2025/
LOCATION:Intergroup Office\, 3317 NW 10TH TER STE 404\, FT LAUDERDALE\, FL\, 33309\, United States
GEO:26.1693036;-80.1571314
X-APPLE-STRUCTURED-LOCATION;VALUE=URI;X-ADDRESS=Intergroup Office 3317 NW 10TH TER STE 404 FT LAUDERDALE FL 33309 United States;X-APPLE-RADIUS=500;X-TITLE=3317 NW 10TH TER STE 404:geo:-80.1571314,26.1693036
END:VEVENT
BEGIN:VEVENT
DTSTART;TZID=America/New_York:20250720T130000
DTEND;TZID=America/New_York:20250720T140000
DTSTAMP:20260422T150723
CREATED:20250625T165747Z
LAST-MODIFIED:20250625T165747Z
UID:6263-1753016400-1753020000@aabroward.org
SUMMARY:Monthly Intergroup Meeting
DESCRIPTION:Monthly Intergroup Representatives Meeting
URL:https://aabroward.org/event/monthly-intergroup-meeting-23/
LOCATION:Twelve Step House\, 205 SW 23 Street\, Fort Lauderdale\, FL\, 33315\, United States
GEO:26.0939351;-80.1428336
X-APPLE-STRUCTURED-LOCATION;VALUE=URI;X-ADDRESS=Twelve Step House 205 SW 23 Street Fort Lauderdale FL 33315 United States;X-APPLE-RADIUS=500;X-TITLE=205 SW 23 Street:geo:-80.1428336,26.0939351
END:VEVENT
BEGIN:VEVENT
DTSTART;TZID=America/New_York:20250824T130000
DTEND;TZID=America/New_York:20250824T140000
DTSTAMP:20260422T150723
CREATED:20250625T165845Z
LAST-MODIFIED:20250625T170918Z
UID:6265-1756040400-1756044000@aabroward.org
SUMMARY:Monthly Intergroup Meeting
DESCRIPTION:Monthly Intergroup Representatives Meeting
URL:https://aabroward.org/event/mim/
LOCATION:Twelve Step House\, 205 SW 23 Street\, Fort Lauderdale\, FL\, 33315\, United States
GEO:26.0939351;-80.1428336
X-APPLE-STRUCTURED-LOCATION;VALUE=URI;X-ADDRESS=Twelve Step House 205 SW 23 Street Fort Lauderdale FL 33315 United States;X-APPLE-RADIUS=500;X-TITLE=205 SW 23 Street:geo:-80.1428336,26.0939351
END:VEVENT
BEGIN:VEVENT
DTSTART;TZID=America/New_York:20250828T183000
DTEND;TZID=America/New_York:20250828T200000
DTSTAMP:20260422T150723
CREATED:20250625T165217Z
LAST-MODIFIED:20250625T165217Z
UID:6255-1756405800-1756411200@aabroward.org
SUMMARY:Express Anniversary
DESCRIPTION:49th Anniversary of Express Group\nHot Dog party – speakersThe Express Group 49th Anniversary \nChrist Lutheran Church\, Oakland Park Blvd.
URL:https://aabroward.org/event/express-anniversary/
LOCATION:FL
END:VEVENT
BEGIN:VEVENT
DTSTART;VALUE=DATE:20250901
DTEND;VALUE=DATE:20250902
DTSTAMP:20260422T150723
CREATED:20250625T170328Z
LAST-MODIFIED:20250625T170637Z
UID:6275-1756684800-1756771199@aabroward.org
SUMMARY:Office Closed
DESCRIPTION:Bookstore closed for Labor Day
URL:https://aabroward.org/event/office-closed-2/
LOCATION:Intergroup Office\, 3317 NW 10TH TER STE 404\, FT LAUDERDALE\, FL\, 33309\, United States
GEO:26.1693036;-80.1571314
X-APPLE-STRUCTURED-LOCATION;VALUE=URI;X-ADDRESS=Intergroup Office 3317 NW 10TH TER STE 404 FT LAUDERDALE FL 33309 United States;X-APPLE-RADIUS=500;X-TITLE=3317 NW 10TH TER STE 404:geo:-80.1571314,26.1693036
END:VEVENT
BEGIN:VEVENT
DTSTART;TZID=America/New_York:20250921T130000
DTEND;TZID=America/New_York:20250921T140000
DTSTAMP:20260422T150723
CREATED:20250625T165932Z
LAST-MODIFIED:20250625T170906Z
UID:6267-1758459600-1758463200@aabroward.org
SUMMARY:Monthly Intergroup Meeting
DESCRIPTION:Monthly Intergroup Representatives Meeting
URL:https://aabroward.org/event/mim-2/
LOCATION:Twelve Step House\, 205 SW 23 Street\, Fort Lauderdale\, FL\, 33315\, United States
GEO:26.0939351;-80.1428336
X-APPLE-STRUCTURED-LOCATION;VALUE=URI;X-ADDRESS=Twelve Step House 205 SW 23 Street Fort Lauderdale FL 33315 United States;X-APPLE-RADIUS=500;X-TITLE=205 SW 23 Street:geo:-80.1428336,26.0939351
END:VEVENT
BEGIN:VEVENT
DTSTART;VALUE=DATE:20250930
DTEND;VALUE=DATE:20251001
DTSTAMP:20260422T150723
CREATED:20250625T171227Z
LAST-MODIFIED:20250625T171227Z
UID:6287-1759190400-1759276799@aabroward.org
SUMMARY:Office Closed
DESCRIPTION:Annual Inventory of Bookstore
URL:https://aabroward.org/event/office-closed-4/
LOCATION:Intergroup Office\, 3317 NW 10TH TER STE 404\, FT LAUDERDALE\, FL\, 33309\, United States
GEO:26.1693036;-80.1571314
X-APPLE-STRUCTURED-LOCATION;VALUE=URI;X-ADDRESS=Intergroup Office 3317 NW 10TH TER STE 404 FT LAUDERDALE FL 33309 United States;X-APPLE-RADIUS=500;X-TITLE=3317 NW 10TH TER STE 404:geo:-80.1571314,26.1693036
END:VEVENT
END:VCALENDAR